BEGIN:VCALENDAR
VERSION:2.0
PRODID:-//Sabre//Sabre VObject 4.5.8//EN
CALSCALE:GREGORIAN
BEGIN:VEVENT
UID:sabre-vobject-153e5f6e-ff88-4162-ae8c-ab0ae8358e8b
DTSTAMP:20260421T010826Z
SUMMARY:Fahrradexkursion
DESCRIPTION:https://regioningolstadt.com/fahrradexkursion_id19874
DTSTART;TZID=Europe/Berlin:20220718T150000
DTEND;TZID=Europe/Berlin:20220718T173000
LOCATION:TSV Sportanlage im Englischen Garten\, Flachslandenstraße 25\, 86
 633 Neuburg
END:VEVENT
END:VCALENDAR
