BEGIN:VCALENDAR
VERSION:2.0
PRODID:-//Sabre//Sabre VObject 4.5.8//EN
CALSCALE:GREGORIAN
BEGIN:VEVENT
UID:sabre-vobject-7f6fdc76-1873-4bd6-b482-3266a934f0dc
DTSTAMP:20260421T114158Z
SUMMARY:Aktion "Kippen sammeln"
DESCRIPTION:https://regioningolstadt.com/aktion-kippen-sammeln_id19871
DTSTART;TZID=Europe/Berlin:20220717T110000
DTEND;TZID=Europe/Berlin:20220717T170000
LOCATION:Schrannenplatz\, Schrannenplatz\, 86633 Neuburg
END:VEVENT
END:VCALENDAR
