BEGIN:VCALENDAR
VERSION:2.0
PRODID:-//Sabre//Sabre VObject 4.5.8//EN
CALSCALE:GREGORIAN
BEGIN:VEVENT
UID:sabre-vobject-3e525598-2099-497c-a016-c5d36b4bccc3
DTSTAMP:20260421T102116Z
SUMMARY:Aktionsstand
DESCRIPTION:https://regioningolstadt.com/aktionsstand_id19870
DTSTART;TZID=Europe/Berlin:20220717T110000
DTEND;TZID=Europe/Berlin:20220717T170000
LOCATION:Schrannenplatz\, Schrannenplatz\, 86633 Neuburg
END:VEVENT
END:VCALENDAR
