BEGIN:VCALENDAR
VERSION:2.0
PRODID:-//Sabre//Sabre VObject 4.5.8//EN
CALSCALE:GREGORIAN
BEGIN:VEVENT
UID:sabre-vobject-3a90f243-d850-40df-9d4b-46dc49da1fa1
DTSTAMP:20260421T084328Z
SUMMARY:Beratungstag mit Fachvorträgen
DESCRIPTION:https://regioningolstadt.com/beratungstag-mit-fachvortraegen_id
 19863
DTSTART;TZID=Europe/Berlin:20220717T110000
DTEND;TZID=Europe/Berlin:20220717T170000
LOCATION:Schrannenplatz\, Schrannenplatz\, 86633 Neuburg
END:VEVENT
END:VCALENDAR
