BEGIN:VCALENDAR
VERSION:2.0
PRODID:-//Sabre//Sabre VObject 4.5.8//EN
CALSCALE:GREGORIAN
BEGIN:VEVENT
UID:sabre-vobject-5f3813aa-7319-403a-8999-4540b60a75d9
DTSTAMP:20260421T071209Z
SUMMARY:Grußwort durch OB Dr. Bernhard Gmehling
DESCRIPTION:https://regioningolstadt.com/grusswort-durch-ob-dr-bernhard-gme
 hling_id19862
DTSTART;TZID=Europe/Berlin:20220717T110000
DURATION:PT30M
LOCATION:Schrannenplatz\, Schrannenplatz\, 86633 Neuburg
END:VEVENT
END:VCALENDAR
