BEGIN:VCALENDAR
VERSION:2.0
PRODID:-//Sabre//Sabre VObject 4.5.8//EN
CALSCALE:GREGORIAN
BEGIN:VEVENT
UID:sabre-vobject-0a1454d3-56b9-4a08-a1b8-82dac77767bc
DTSTAMP:20260421T130436Z
SUMMARY:Radltour ins Urdonautal
DESCRIPTION:https://regioningolstadt.com/radltour-ins-urdonautal_id19861
DTSTART;TZID=Europe/Berlin:20220717T090000
DTEND;TZID=Europe/Berlin:20220717T110000
LOCATION:Bäckerei-Konditorei Göbel\, Schrannenstraße C 54 1/2\, 86633 Ne
 uburg an der Donau
END:VEVENT
END:VCALENDAR
