BEGIN:VCALENDAR
VERSION:2.0
PRODID:-//Sabre//Sabre VObject 4.5.8//EN
CALSCALE:GREGORIAN
BEGIN:VEVENT
UID:sabre-vobject-d6835e9a-5834-4717-8fa1-81c8f5489f19
DTSTAMP:20260421T172423Z
SUMMARY:Klimawandel - was die Wissenschaft wirklich weiß ... und was nicht
DESCRIPTION:https://regioningolstadt.com/klimawandel-was-die-wissenschaft-w
 irklich-weiss-und-was-nicht_id19854
DTSTART;TZID=Europe/Berlin:20220716T170000
DURATION:PT30M
LOCATION:Jugendzentrum Neuburg\, FünfzehnerStraße 24\, 86633 Neuburg
END:VEVENT
END:VCALENDAR
