BEGIN:VCALENDAR
VERSION:2.0
PRODID:-//Sabre//Sabre VObject 4.5.8//EN
CALSCALE:GREGORIAN
BEGIN:VEVENT
UID:sabre-vobject-6a3f5bcf-b311-4f71-b5b4-f3942b495f35
DTSTAMP:20260421T203308Z
SUMMARY:Do it yourself-Workshop
DESCRIPTION:https://regioningolstadt.com/do-it-yourself-workshop_id19853
DTSTART;TZID=Europe/Berlin:20220716T130000
DTEND;TZID=Europe/Berlin:20220716T150000
END:VEVENT
END:VCALENDAR
