BEGIN:VCALENDAR
VERSION:2.0
PRODID:-//Sabre//Sabre VObject 4.5.8//EN
CALSCALE:GREGORIAN
BEGIN:VEVENT
UID:sabre-vobject-8c0b80de-b8ae-49c3-b7eb-6100d25beb41
DTSTAMP:20260422T011028Z
SUMMARY:Blick hinter die Kulissen eines Unverpacktladens
DESCRIPTION:https://regioningolstadt.com/blick-hinter-die-kulissen-eines-un
 verpacktladens_id19852
DTSTART;TZID=Europe/Berlin:20220716T080000
DTEND;TZID=Europe/Berlin:20220716T160000
END:VEVENT
END:VCALENDAR
