BEGIN:VCALENDAR
VERSION:2.0
PRODID:-//Sabre//Sabre VObject 4.5.8//EN
CALSCALE:GREGORIAN
BEGIN:VEVENT
UID:sabre-vobject-a29263cb-86e7-42e2-8b0e-c9d19a9cde84
DTSTAMP:20260420T155633Z
SUMMARY:Klimaschutz goes Coworking
DESCRIPTION:https://regioningolstadt.com/klimaschutz-goes-coworking_id19822
DTSTART;TZID=Europe/Berlin:20220720T000000
DTEND;TZID=Europe/Berlin:20220722T000000
LOCATION:das Otto\, Schmidstraße C113\, 86633  Neuburg
END:VEVENT
END:VCALENDAR
