BEGIN:VCALENDAR
VERSION:2.0
PRODID:-//Sabre//Sabre VObject 4.5.8//EN
CALSCALE:GREGORIAN
BEGIN:VEVENT
UID:sabre-vobject-c8a6132c-74d5-4b9e-9acc-36ce933b922f
DTSTAMP:20260420T220840Z
SUMMARY:Sprach Café - Frauen sprechen Deutsch
DESCRIPTION:https://regioningolstadt.com/sprach-cafe-frauen-sprechen-deutsc
 h_id19819
DTSTART;TZID=Europe/Berlin:20220719T090000
DTEND;TZID=Europe/Berlin:20220719T110000
LOCATION:das Otto\, Schmidstraße C113\, 86633  Neuburg
END:VEVENT
END:VCALENDAR
