BEGIN:VCALENDAR
VERSION:2.0
PRODID:-//Sabre//Sabre VObject 4.5.8//EN
CALSCALE:GREGORIAN
BEGIN:VEVENT
UID:sabre-vobject-709f45f8-9299-4089-a192-667d11947bde
DTSTAMP:20260421T233031Z
SUMMARY:Sprach-Café - Frauen sprechen Deutsch
DESCRIPTION:https://regioningolstadt.com/sprach-cafe-frauen-sprechen-deutsc
 h_id19818
DTSTART;TZID=Europe/Berlin:20220716T090000
DTEND;TZID=Europe/Berlin:20220716T110000
LOCATION:das Otto\, Schmidstraße C113\, 86633  Neuburg
END:VEVENT
END:VCALENDAR
