BEGIN:VCALENDAR
VERSION:2.0
PRODID:-//Sabre//Sabre VObject 4.5.8//EN
CALSCALE:GREGORIAN
BEGIN:VEVENT
UID:sabre-vobject-39e272c0-e32b-40ee-8d25-dd14473bf25e
DTSTAMP:20260423T025018Z
SUMMARY:das otto - Kinder gestalten Zukunft
DESCRIPTION:https://regioningolstadt.com/das-otto-kinder-gestalten-zukunft_
 id19807
DTSTART;TZID=Europe/Berlin:20220709T090000
DTEND;TZID=Europe/Berlin:20220709T130000
LOCATION:das Otto\, Schmidstraße C113\, 86633  Neuburg
END:VEVENT
END:VCALENDAR
