BEGIN:VCALENDAR
VERSION:2.0
PRODID:-//Sabre//Sabre VObject 4.5.8//EN
CALSCALE:GREGORIAN
BEGIN:VEVENT
UID:sabre-vobject-63d4b585-1850-4cfc-9220-d2bf6c12bdda
DTSTAMP:20260421T185748Z
SUMMARY:Pegasus-Spieletage
DESCRIPTION:https://regioningolstadt.com/pegasus-spieletage_id19796
DTSTART;TZID=Europe/Berlin:20220716T140000
DTEND;TZID=Europe/Berlin:20220716T235900
LOCATION:Jugendzentrum Neuburg\, Fünfzehnerstraße 24\, 86633 Neuburg an d
 er Donau
END:VEVENT
END:VCALENDAR
