BEGIN:VCALENDAR
VERSION:2.0
PRODID:-//Sabre//Sabre VObject 4.5.8//EN
CALSCALE:GREGORIAN
BEGIN:VEVENT
UID:sabre-vobject-ba186def-afc3-4528-8d32-69f0db463b65
DTSTAMP:20260422T234137Z
SUMMARY:Antonibergfest
DESCRIPTION:https://regioningolstadt.com/antonibergfest_id19742
DTSTART;TZID=Europe/Berlin:20220709T170000
DTEND;TZID=Europe/Berlin:20220710T010000
LOCATION:Antoniberg \, \, 86643  Rennertshofen
END:VEVENT
END:VCALENDAR
