BEGIN:VCALENDAR
VERSION:2.0
PRODID:-//Sabre//Sabre VObject 4.5.8//EN
CALSCALE:GREGORIAN
BEGIN:VEVENT
UID:sabre-vobject-197bd4b7-c5f5-49e6-a3b5-7320ecb00f13
DTSTAMP:20260423T011055Z
SUMMARY:Fischerstechen in Stepperg
DESCRIPTION:https://regioningolstadt.com/fischerstechen-in-stepperg_id19740
DTSTART;TZID=Europe/Berlin:20220709T130000
DTEND;TZID=Europe/Berlin:20220709T170000
LOCATION:Antonibergsee
END:VEVENT
END:VCALENDAR
