BEGIN:VCALENDAR
VERSION:2.0
PRODID:-//Sabre//Sabre VObject 4.5.8//EN
CALSCALE:GREGORIAN
BEGIN:VEVENT
UID:sabre-vobject-d645ec63-6301-4492-b03a-4194c2ef23c8
DTSTAMP:20260424T090105Z
SUMMARY:Neuburger Donau Geschichte(n) rund um die Donaubrücke
DESCRIPTION:https://regioningolstadt.com/neuburger-donau-geschichte-n-rund-
 um-die-donaubruecke_id19729
DTSTART;TZID=Europe/Berlin:20220629T190000
DTEND;TZID=Europe/Berlin:20220629T203000
LOCATION:Elisenplatz Neuburg\, Elisenplatz \, 86633 Neuburg
END:VEVENT
END:VCALENDAR
