BEGIN:VCALENDAR
VERSION:2.0
PRODID:-//Sabre//Sabre VObject 4.5.8//EN
CALSCALE:GREGORIAN
BEGIN:VEVENT
UID:sabre-vobject-9530b3fd-bdbd-44f2-9e27-055763aa80c6
DTSTAMP:20260424T122924Z
SUMMARY:Ein Fluss mit Einfluss
DESCRIPTION:https://regioningolstadt.com/ein-fluss-mit-einfluss_id19727
DTSTART;TZID=Europe/Berlin:20220629T170000
DTEND;TZID=Europe/Berlin:20220629T183000
END:VEVENT
END:VCALENDAR
