BEGIN:VCALENDAR
VERSION:2.0
PRODID:-//Sabre//Sabre VObject 4.5.8//EN
CALSCALE:GREGORIAN
BEGIN:VEVENT
UID:sabre-vobject-dbc1ed0b-4cf5-43fc-aade-f0ec93edff1c
DTSTAMP:20260424T140621Z
SUMMARY:Neuburg an der Donau - Mit der Donau
DESCRIPTION:https://regioningolstadt.com/neuburg-an-der-donau-mit-der-donau
 _id19725
DTSTART;TZID=Europe/Berlin:20220629T153000
DTEND;TZID=Europe/Berlin:20220629T170000
LOCATION:Elisenplatz Neuburg\, Elisenplatz \, 86633 Neuburg
END:VEVENT
END:VCALENDAR
