BEGIN:VCALENDAR
VERSION:2.0
PRODID:-//Sabre//Sabre VObject 4.5.8//EN
CALSCALE:GREGORIAN
BEGIN:VEVENT
UID:sabre-vobject-cb25b39b-7b32-419b-980b-a921a13c917d
DTSTAMP:20260425T011049Z
SUMMARY:90er vs 2000er
DESCRIPTION:https://regioningolstadt.com/90er-vs-2000er_id19711
DTSTART;TZID=Europe/Berlin:20220625T220000
DURATION:PT30M
LOCATION:Fly Cocktailbar\, Elisenplatz C 38\, 86633 Neuburg an der Donau
END:VEVENT
END:VCALENDAR
