BEGIN:VCALENDAR
VERSION:2.0
PRODID:-//Sabre//Sabre VObject 4.5.8//EN
CALSCALE:GREGORIAN
BEGIN:VEVENT
UID:sabre-vobject-fe5f8fcc-d7e3-45d3-9f02-39f8563d1484
DTSTAMP:20260425T155551Z
SUMMARY:Radl-Aktion
DESCRIPTION:https://regioningolstadt.com/radl-aktion_id19696
DTSTART;TZID=Europe/Berlin:20220624T140000
DTEND;TZID=Europe/Berlin:20220624T180000
LOCATION:Spitalplatz\, Spitalplatz\, 86633 Neuburg (Donau)
END:VEVENT
END:VCALENDAR
