BEGIN:VCALENDAR
VERSION:2.0
PRODID:-//Sabre//Sabre VObject 4.5.8//EN
CALSCALE:GREGORIAN
BEGIN:VEVENT
UID:sabre-vobject-116100ac-826f-44c0-a43a-85b7461720ca
DTSTAMP:20260423T041758Z
SUMMARY:70 jähriges Jubiläum BSV ND
DESCRIPTION:https://regioningolstadt.com/70-jaehriges-jubilaeum-bsv-nd_id19
 609
DTSTART;TZID=Europe/Berlin:20220709T000000
DTEND;TZID=Europe/Berlin:20220710T000000
LOCATION:BSV Neuburg\, Grünauer Straße 120\, 86633 Neuburg
END:VEVENT
END:VCALENDAR
