BEGIN:VCALENDAR
VERSION:2.0
PRODID:-//Sabre//Sabre VObject 4.5.8//EN
CALSCALE:GREGORIAN
BEGIN:VEVENT
UID:sabre-vobject-c54472a2-07a0-43cc-bcdf-7d7c8c0bba54
DTSTAMP:20260420T075716Z
SUMMARY:Führung in der Provinzialbibliothek
DESCRIPTION:https://regioningolstadt.com/fuehrung-in-der-provinzialbiblioth
 ek_id19501
DTSTART;TZID=Europe/Berlin:20220720T143000
DTEND;TZID=Europe/Berlin:20220720T150000
LOCATION:Provinzialbibliothek\, Karlsplatz A 17\, 86633 Neuburg
END:VEVENT
END:VCALENDAR
