BEGIN:VCALENDAR
VERSION:2.0
PRODID:-//Sabre//Sabre VObject 4.5.8//EN
CALSCALE:GREGORIAN
BEGIN:VEVENT
UID:sabre-vobject-8f20b3e7-c5a6-4a43-b46b-8420f4d8a13b
DTSTAMP:20260421T041011Z
SUMMARY:Sonn- und Feiertagsführung
DESCRIPTION:https://regioningolstadt.com/sonn-und-feiertagsfuehrung_id19498
DTSTART;TZID=Europe/Berlin:20220717T143000
DTEND;TZID=Europe/Berlin:20220717T160000
LOCATION:Tourist-Information\, Ottheinrichplatz A 118\, 86633 Neuburg
END:VEVENT
END:VCALENDAR
