BEGIN:VCALENDAR
VERSION:2.0
PRODID:-//Sabre//Sabre VObject 4.5.8//EN
CALSCALE:GREGORIAN
BEGIN:VEVENT
UID:sabre-vobject-d47494a0-0d48-4c8a-a189-e643be9d92a4
DTSTAMP:20260421T053909Z
SUMMARY:Schlosstour am Sonntag
DESCRIPTION:https://regioningolstadt.com/schlosstour-am-sonntag_id19496
DTSTART;TZID=Europe/Berlin:20220717T113000
DTEND;TZID=Europe/Berlin:20220717T130000
LOCATION:Schlosshof\, Residenzstraße 2\, 86633 Neuburg
END:VEVENT
END:VCALENDAR
