BEGIN:VCALENDAR
VERSION:2.0
PRODID:-//Sabre//Sabre VObject 4.5.8//EN
CALSCALE:GREGORIAN
BEGIN:VEVENT
UID:sabre-vobject-0c6b532a-0aed-4084-b4bc-fba9c73c83b5
DTSTAMP:20260422T054006Z
SUMMARY:Mit dem Nachtwächter durch die Altstadt
DESCRIPTION:https://regioningolstadt.com/mit-dem-nachtwaechter-durch-die-al
 tstadt_id19495
DTSTART;TZID=Europe/Berlin:20220715T203000
DTEND;TZID=Europe/Berlin:20220715T220000
LOCATION:Tourist-Information\, Ottheinrichplatz A 118\, 86633 Neuburg
END:VEVENT
END:VCALENDAR
