BEGIN:VCALENDAR
VERSION:2.0
PRODID:-//Sabre//Sabre VObject 4.5.8//EN
CALSCALE:GREGORIAN
BEGIN:VEVENT
UID:sabre-vobject-e7ced4b0-0839-4759-8f61-69b5e3effd25
DTSTAMP:20260422T125703Z
SUMMARY:Höhepunkte de Altstadt
DESCRIPTION:https://regioningolstadt.com/hoehepunkte-de-altstadt_id19494
DTSTART;TZID=Europe/Berlin:20220714T143000
DTEND;TZID=Europe/Berlin:20220714T153000
LOCATION:Tourist-Information\, Ottheinrichplatz A 118\, 86633 Neuburg
END:VEVENT
END:VCALENDAR
