BEGIN:VCALENDAR
VERSION:2.0
PRODID:-//Sabre//Sabre VObject 4.5.8//EN
CALSCALE:GREGORIAN
BEGIN:VEVENT
UID:sabre-vobject-6cf589ee-1354-4832-94bf-fc318e05bbe5
DTSTAMP:20260422T142156Z
SUMMARY:Höhepunkte der Altstadt
DESCRIPTION:https://regioningolstadt.com/hoehepunkte-der-altstadt_id19493
DTSTART;TZID=Europe/Berlin:20220713T170000
DTEND;TZID=Europe/Berlin:20220713T180000
LOCATION:Tourist-Information\, Ottheinrichplatz A 118\, 86633 Neuburg
END:VEVENT
END:VCALENDAR
