BEGIN:VCALENDAR
VERSION:2.0
PRODID:-//Sabre//Sabre VObject 4.5.8//EN
CALSCALE:GREGORIAN
BEGIN:VEVENT
UID:sabre-vobject-834f6fd0-bcc8-4c5d-82b8-675ef1a668b6
DTSTAMP:20260422T174419Z
SUMMARY:Höhepunkte der Altstadt
DESCRIPTION:https://regioningolstadt.com/hoehepunkte-der-altstadt_id19491
DTSTART;TZID=Europe/Berlin:20220712T143000
DTEND;TZID=Europe/Berlin:20220712T153000
LOCATION:Tourist-Information\, Ottheinrichplatz A 118\, 86633 Neuburg
END:VEVENT
END:VCALENDAR
