BEGIN:VCALENDAR
VERSION:2.0
PRODID:-//Sabre//Sabre VObject 4.5.8//EN
CALSCALE:GREGORIAN
BEGIN:VEVENT
UID:sabre-vobject-dc7d69d2-89b8-48eb-9fd8-6263be376b1b
DTSTAMP:20260423T083939Z
SUMMARY:Von der alten Kaserne zum Campus Neuburg
DESCRIPTION:https://regioningolstadt.com/von-der-alten-kaserne-zum-campus-n
 euburg_id19489
DTSTART;TZID=Europe/Berlin:20220708T150000
DTEND;TZID=Europe/Berlin:20220708T170000
LOCATION:Landratsamt Neuburg-Schrobenhausen\, Platz der Deutschen Einheit 1
 \, 86633  Neuburg
END:VEVENT
END:VCALENDAR
