BEGIN:VCALENDAR
VERSION:2.0
PRODID:-//Sabre//Sabre VObject 4.5.8//EN
CALSCALE:GREGORIAN
BEGIN:VEVENT
UID:sabre-vobject-c72f5c3a-93be-4543-be63-de6161bb76b2
DTSTAMP:20260423T175154Z
SUMMARY:Führung in der Provinzialbibliothek
DESCRIPTION:https://regioningolstadt.com/fuehrung-in-der-provinzialbiblioth
 ek_id19486
DTSTART;TZID=Europe/Berlin:20220706T143000
DTEND;TZID=Europe/Berlin:20220706T150000
LOCATION:Provinzialbibliothek\, Karlsplatz A 17\, 86633 Neuburg
END:VEVENT
END:VCALENDAR
