BEGIN:VCALENDAR
VERSION:2.0
PRODID:-//Sabre//Sabre VObject 4.5.8//EN
CALSCALE:GREGORIAN
BEGIN:VEVENT
UID:sabre-vobject-9b13cb88-4bd3-4170-98fe-8c98775d92e7
DTSTAMP:20260423T235157Z
SUMMARY:Sonn- und Feiertagsführung
DESCRIPTION:https://regioningolstadt.com/sonn-und-feiertagsfuehrung_id19484
DTSTART;TZID=Europe/Berlin:20220703T143000
DTEND;TZID=Europe/Berlin:20220703T160000
LOCATION:Tourist-Information\, Ottheinrichplatz A 118\, 86633 Neuburg
END:VEVENT
END:VCALENDAR
