BEGIN:VCALENDAR
VERSION:2.0
PRODID:-//Sabre//Sabre VObject 4.5.8//EN
CALSCALE:GREGORIAN
BEGIN:VEVENT
UID:sabre-vobject-b8ced75f-f15d-4bb0-8f92-83b96b364ecb
DTSTAMP:20260424T012246Z
SUMMARY:Kneippen in Bad Neuburg?
DESCRIPTION:https://regioningolstadt.com/kneippen-in-bad-neuburg_id19483
DTSTART;TZID=Europe/Berlin:20220703T140000
DTEND;TZID=Europe/Berlin:20220703T160000
LOCATION:Vor dem Neuburger Finanzamt\, Fünfzehnerstraße 7\, 86633 Neuburg
END:VEVENT
END:VCALENDAR
