BEGIN:VCALENDAR
VERSION:2.0
PRODID:-//Sabre//Sabre VObject 4.5.8//EN
CALSCALE:GREGORIAN
BEGIN:VEVENT
UID:sabre-vobject-1f4b5b82-c068-4ce6-a19d-8877915c878b
DTSTAMP:20260424T025818Z
SUMMARY:Schlosstour am Sonntag
DESCRIPTION:https://regioningolstadt.com/schlosstour-am-sonntag_id19481
DTSTART;TZID=Europe/Berlin:20220703T113000
DTEND;TZID=Europe/Berlin:20220703T130000
LOCATION:Schlosshof\, Residenzstraße 2\, 86633 Neuburg
END:VEVENT
END:VCALENDAR
