BEGIN:VCALENDAR
VERSION:2.0
PRODID:-//Sabre//Sabre VObject 4.5.8//EN
CALSCALE:GREGORIAN
BEGIN:VEVENT
UID:sabre-vobject-016400c4-a2b4-4eaa-9d73-07fe10dcca0d
DTSTAMP:20260424T055830Z
SUMMARY:Mit dem Nachtwächter durch die Altstadt
DESCRIPTION:https://regioningolstadt.com/mit-dem-nachtwaechter-durch-die-al
 tstadt_id19480
DTSTART;TZID=Europe/Berlin:20220701T203000
DTEND;TZID=Europe/Berlin:20220701T220000
LOCATION:Tourist-Information\, Ottheinrichplatz A 118\, 86633 Neuburg
END:VEVENT
END:VCALENDAR
