BEGIN:VCALENDAR
VERSION:2.0
PRODID:-//Sabre//Sabre VObject 4.5.8//EN
CALSCALE:GREGORIAN
BEGIN:VEVENT
UID:sabre-vobject-c566a7a6-c736-4a64-ba15-ed4b6ed42aa0
DTSTAMP:20260424T172555Z
SUMMARY:Höhepunkte der Altstadt
DESCRIPTION:https://regioningolstadt.com/hoehepunkte-der-altstadt_id19453
DTSTART;TZID=Europe/Berlin:20220628T143000
DTEND;TZID=Europe/Berlin:20220628T151500
LOCATION:Tourist-Information\, Ottheinrichplatz A 118\, 86633 Neuburg
END:VEVENT
END:VCALENDAR
