BEGIN:VCALENDAR
VERSION:2.0
PRODID:-//Sabre//Sabre VObject 4.5.8//EN
CALSCALE:GREGORIAN
BEGIN:VEVENT
UID:sabre-vobject-44154231-bc7e-4b95-b1ed-35207d3e375d
DTSTAMP:20260424T220218Z
SUMMARY:Sonn- und Feiertagsführung
DESCRIPTION:https://regioningolstadt.com/sonn-und-feiertagsfuehrung_id19452
DTSTART;TZID=Europe/Berlin:20220626T143000
DTEND;TZID=Europe/Berlin:20220626T160000
LOCATION:Tourist-Information\, Ottheinrichplatz A 118\, 86633 Neuburg
END:VEVENT
END:VCALENDAR
