BEGIN:VCALENDAR
VERSION:2.0
PRODID:-//Sabre//Sabre VObject 4.5.8//EN
CALSCALE:GREGORIAN
BEGIN:VEVENT
UID:sabre-vobject-8f29b54b-306d-4544-9a82-01f2e3fff263
DTSTAMP:20260425T142225Z
SUMMARY:Von der alten Kaserne zum Campus Neuburg
DESCRIPTION:https://regioningolstadt.com/von-der-alten-kaserne-zum-campus-n
 euburg_id19450
DTSTART;TZID=Europe/Berlin:20220624T150000
DTEND;TZID=Europe/Berlin:20220624T170000
LOCATION:Landratsamt Neuburg-Schrobenhausen\, Platz der Deutschen Einheit 1
 \, 86633  Neuburg
END:VEVENT
END:VCALENDAR
