BEGIN:VCALENDAR
VERSION:2.0
PRODID:-//Sabre//Sabre VObject 4.5.8//EN
CALSCALE:GREGORIAN
BEGIN:VEVENT
UID:sabre-vobject-826abfbd-037c-4aef-931e-e06b05373d78
DTSTAMP:20260425T130126Z
SUMMARY:Führung in der Provinzialbibliothek
DESCRIPTION:https://regioningolstadt.com/fuehrung-in-der-provinzialbiblioth
 ek_id19447
DTSTART;TZID=Europe/Berlin:20220622T143000
DTEND;TZID=Europe/Berlin:20220622T150000
LOCATION:Provinzialbibliothek\, Karlsplatz A 17\, 86633 Neuburg
END:VEVENT
END:VCALENDAR
