BEGIN:VCALENDAR
VERSION:2.0
PRODID:-//Sabre//Sabre VObject 4.5.8//EN
CALSCALE:GREGORIAN
BEGIN:VEVENT
UID:sabre-vobject-bd3c5f99-3666-4590-b3cd-6c69df7ff831
DTSTAMP:20260425T011049Z
SUMMARY:Mit dem Nachtwächter durch die obere Altstadt
DESCRIPTION:https://regioningolstadt.com/mit-dem-nachtwaechter-durch-die-ob
 ere-altstadt_id19443
DTSTART;TZID=Europe/Berlin:20220617T203000
DTEND;TZID=Europe/Berlin:20220617T220000
LOCATION:Tourist-Information\, Ottheinrichplatz A 118\, 86633 Neuburg
END:VEVENT
END:VCALENDAR
