BEGIN:VCALENDAR
VERSION:2.0
PRODID:-//Sabre//Sabre VObject 4.5.8//EN
CALSCALE:GREGORIAN
BEGIN:VEVENT
UID:sabre-vobject-3499bf3c-b128-4e82-9b3f-5ec9ae20d848
DTSTAMP:20260424T220228Z
SUMMARY:Sonn- und Feiertagsführung
DESCRIPTION:https://regioningolstadt.com/sonn-und-feiertagsfuehrung_id19442
DTSTART;TZID=Europe/Berlin:20220616T143000
DTEND;TZID=Europe/Berlin:20220616T160000
LOCATION:Tourist-Information\, Ottheinrichplatz A 118\, 86633 Neuburg
END:VEVENT
END:VCALENDAR
