BEGIN:VCALENDAR
VERSION:2.0
PRODID:-//Sabre//Sabre VObject 4.5.8//EN
CALSCALE:GREGORIAN
BEGIN:VEVENT
UID:sabre-vobject-a3c6f527-799b-419c-8eb9-c9713ced533c
DTSTAMP:20260424T171709Z
SUMMARY:Führung in der Provinzialbibliothek
DESCRIPTION:https://regioningolstadt.com/fuehrung-in-der-provinzialbiblioth
 ek_id19440
DTSTART;TZID=Europe/Berlin:20220615T143000
DTEND;TZID=Europe/Berlin:20220615T150000
LOCATION:Provinzialbibliothek\, Karlsplatz A 17\, 86633 Neuburg
END:VEVENT
END:VCALENDAR
