BEGIN:VCALENDAR
VERSION:2.0
PRODID:-//Sabre//Sabre VObject 4.5.8//EN
CALSCALE:GREGORIAN
BEGIN:VEVENT
UID:sabre-vobject-2ef58a10-5309-4039-9f29-2d9bf86a0c18
DTSTAMP:20260424T105605Z
SUMMARY:Geschichte mit Sang und Klang
DESCRIPTION:https://regioningolstadt.com/geschichte-mit-sang-und-klang_id19
 439
DTSTART;TZID=Europe/Berlin:20220612T170000
DTEND;TZID=Europe/Berlin:20220612T183000
LOCATION:Tourist-Information\, Ottheinrichplatz A 118\, 86633 Neuburg
END:VEVENT
END:VCALENDAR
