BEGIN:VCALENDAR
VERSION:2.0
PRODID:-//Sabre//Sabre VObject 4.5.8//EN
CALSCALE:GREGORIAN
BEGIN:VEVENT
UID:sabre-vobject-be1cf525-4c0d-4ec2-9105-5636eaeeb6ea
DTSTAMP:20260424T074544Z
SUMMARY:Kneippen im Bad Neuburg?
DESCRIPTION:https://regioningolstadt.com/kneippen-im-bad-neuburg_id19432
DTSTART;TZID=Europe/Berlin:20220612T140000
DTEND;TZID=Europe/Berlin:20220612T160000
LOCATION:Vor dem Neuburger Finanzamt\, Fünfzehnerstraße 7\, 86633 Neuburg
END:VEVENT
END:VCALENDAR
