BEGIN:VCALENDAR
VERSION:2.0
PRODID:-//Sabre//Sabre VObject 4.5.8//EN
CALSCALE:GREGORIAN
BEGIN:VEVENT
UID:sabre-vobject-d8d637de-f158-4fe9-b143-fcdb650f15fd
DTSTAMP:20260423T175838Z
SUMMARY:Führung in der Provinzialbibliothek
DESCRIPTION:https://regioningolstadt.com/fuehrung-in-der-provinzialbiblioth
 ek_id19428
DTSTART;TZID=Europe/Berlin:20220608T143000
DTEND;TZID=Europe/Berlin:20220608T150000
LOCATION:Provinzialbibliothek\, Karlsplatz A 17\, 86633 Neuburg
END:VEVENT
END:VCALENDAR
