BEGIN:VCALENDAR
VERSION:2.0
PRODID:-//Sabre//Sabre VObject 4.5.8//EN
CALSCALE:GREGORIAN
BEGIN:VEVENT
UID:sabre-vobject-186db0aa-6fd3-4e0e-86e6-b02c1ab032e7
DTSTAMP:20260421T155313Z
SUMMARY:Die Lerche von Hinterkaifeck
DESCRIPTION:https://regioningolstadt.com/die-lerche-von-hinterkaifeck_id194
 20
DTSTART;TZID=Europe/Berlin:20220716T200000
DURATION:PT30M
LOCATION:Haus im Moos\, Kleinhohenried 108\, 86668 Karlshuld
END:VEVENT
END:VCALENDAR
