BEGIN:VCALENDAR
VERSION:2.0
PRODID:-//Sabre//Sabre VObject 4.5.8//EN
CALSCALE:GREGORIAN
BEGIN:VEVENT
UID:sabre-vobject-938697c1-f021-45b4-a720-5013b299ae3a
DTSTAMP:20260422T112432Z
SUMMARY:Die Lerche von Hinterkaifeck
DESCRIPTION:https://regioningolstadt.com/die-lerche-von-hinterkaifeck_id194
 18
DTSTART;TZID=Europe/Berlin:20220714T200000
DURATION:PT30M
LOCATION:Haus im Moos\, Kleinhohenried 108\, 86668 Karlshuld
END:VEVENT
END:VCALENDAR
