BEGIN:VCALENDAR
VERSION:2.0
PRODID:-//Sabre//Sabre VObject 4.5.8//EN
CALSCALE:GREGORIAN
BEGIN:VEVENT
UID:sabre-vobject-2660425d-7ef2-4926-9cdf-63cc78addd6c
DTSTAMP:20260422T220931Z
SUMMARY:Die Lerche von Hinterkaifeck
DESCRIPTION:https://regioningolstadt.com/die-lerche-von-hinterkaifeck_id194
 17
DTSTART;TZID=Europe/Berlin:20220709T200000
DURATION:PT30M
LOCATION:Haus im Moos\, Kleinhohenried 108\, 86668 Karlshuld
END:VEVENT
END:VCALENDAR
