BEGIN:VCALENDAR
VERSION:2.0
PRODID:-//Sabre//Sabre VObject 4.5.8//EN
CALSCALE:GREGORIAN
BEGIN:VEVENT
UID:sabre-vobject-31ae14d7-eca2-4df3-8b18-bc6b1a285437
DTSTAMP:20260423T070932Z
SUMMARY:Die Lerche von Hinterkaifeck
DESCRIPTION:https://regioningolstadt.com/die-lerche-von-hinterkaifeck_id194
 16
DTSTART;TZID=Europe/Berlin:20220708T200000
DURATION:PT30M
LOCATION:Haus im Moos\, Kleinhohenried 108\, 86668 Karlshuld
END:VEVENT
END:VCALENDAR
