BEGIN:VCALENDAR
VERSION:2.0
PRODID:-//Sabre//Sabre VObject 4.5.8//EN
CALSCALE:GREGORIAN
BEGIN:VEVENT
UID:sabre-vobject-b1eaaa3e-cf93-4fb1-879d-14732b7340ab
DTSTAMP:20260424T042622Z
SUMMARY:Sèter Weinfest
DESCRIPTION:https://regioningolstadt.com/seter-weinfest_id19415
DTSTART;TZID=Europe/Berlin:20220702T180000
DURATION:PT30M
LOCATION:Schrannenplatz\, Schrannenplatz\, 86633 Neuburg
END:VEVENT
END:VCALENDAR
